BEGIN:VCALENDAR
VERSION:2.0
PRODID:-//Turtle Rock Preschool - ECPv6.15.17//NONSGML v1.0//EN
CALSCALE:GREGORIAN
METHOD:PUBLISH
X-WR-CALNAME:Turtle Rock Preschool
X-ORIGINAL-URL:https://turtlerockpreschool.com
X-WR-CALDESC:Events for Turtle Rock Preschool
REFRESH-INTERVAL;VALUE=DURATION:PT1H
X-Robots-Tag:noindex
X-PUBLISHED-TTL:PT1H
BEGIN:VTIMEZONE
TZID:America/Los_Angeles
BEGIN:DAYLIGHT
TZOFFSETFROM:-0800
TZOFFSETTO:-0700
TZNAME:PDT
DTSTART:20250309T100000
END:DAYLIGHT
BEGIN:STANDARD
TZOFFSETFROM:-0700
TZOFFSETTO:-0800
TZNAME:PST
DTSTART:20251102T090000
END:STANDARD
BEGIN:DAYLIGHT
TZOFFSETFROM:-0800
TZOFFSETTO:-0700
TZNAME:PDT
DTSTART:20260308T100000
END:DAYLIGHT
BEGIN:STANDARD
TZOFFSETFROM:-0700
TZOFFSETTO:-0800
TZNAME:PST
DTSTART:20261101T090000
END:STANDARD
BEGIN:DAYLIGHT
TZOFFSETFROM:-0800
TZOFFSETTO:-0700
TZNAME:PDT
DTSTART:20270314T100000
END:DAYLIGHT
BEGIN:STANDARD
TZOFFSETFROM:-0700
TZOFFSETTO:-0800
TZNAME:PST
DTSTART:20271107T090000
END:STANDARD
END:VTIMEZONE
BEGIN:VEVENT
DTSTART;VALUE=DATE:20260811
DTEND;VALUE=DATE:20260812
DTSTAMP:20260421T042022
CREATED:20240730T015614Z
LAST-MODIFIED:20251003T210230Z
UID:10001206-1786406400-1786492799@turtlerockpreschool.com
SUMMARY:Last Day of Summer Camp & KinderCamp
DESCRIPTION:
URL:https://turtlerockpreschool.com/event/last-day-of-summer-camp-kindercamp-3/
END:VEVENT
BEGIN:VEVENT
DTSTART;VALUE=DATE:20260812
DTEND;VALUE=DATE:20260813
DTSTAMP:20260421T042022
CREATED:20240730T015632Z
LAST-MODIFIED:20251003T210220Z
UID:10001207-1786492800-1786579199@turtlerockpreschool.com
SUMMARY:Last Day of School
DESCRIPTION:
URL:https://turtlerockpreschool.com/event/last-day-of-school-3/
END:VEVENT
END:VCALENDAR