BEGIN:VCALENDAR
VERSION:2.0
PRODID:-//Turtle Rock Preschool - ECPv6.15.17//NONSGML v1.0//EN
CALSCALE:GREGORIAN
METHOD:PUBLISH
X-WR-CALNAME:Turtle Rock Preschool
X-ORIGINAL-URL:https://turtlerockpreschool.com
X-WR-CALDESC:Events for Turtle Rock Preschool
REFRESH-INTERVAL;VALUE=DURATION:PT1H
X-Robots-Tag:noindex
X-PUBLISHED-TTL:PT1H
BEGIN:VTIMEZONE
TZID:America/Los_Angeles
BEGIN:DAYLIGHT
TZOFFSETFROM:-0800
TZOFFSETTO:-0700
TZNAME:PDT
DTSTART:20250309T100000
END:DAYLIGHT
BEGIN:STANDARD
TZOFFSETFROM:-0700
TZOFFSETTO:-0800
TZNAME:PST
DTSTART:20251102T090000
END:STANDARD
BEGIN:DAYLIGHT
TZOFFSETFROM:-0800
TZOFFSETTO:-0700
TZNAME:PDT
DTSTART:20260308T100000
END:DAYLIGHT
BEGIN:STANDARD
TZOFFSETFROM:-0700
TZOFFSETTO:-0800
TZNAME:PST
DTSTART:20261101T090000
END:STANDARD
BEGIN:DAYLIGHT
TZOFFSETFROM:-0800
TZOFFSETTO:-0700
TZNAME:PDT
DTSTART:20270314T100000
END:DAYLIGHT
BEGIN:STANDARD
TZOFFSETFROM:-0700
TZOFFSETTO:-0800
TZNAME:PST
DTSTART:20271107T090000
END:STANDARD
END:VTIMEZONE
BEGIN:VEVENT
DTSTART;VALUE=DATE:20260603
DTEND;VALUE=DATE:20260604
DTSTAMP:20260421T015409
CREATED:20170127T020541Z
LAST-MODIFIED:20251003T210319Z
UID:10001179-1780444800-1780531199@turtlerockpreschool.com
SUMMARY:Kindergarten Promotion
DESCRIPTION:
URL:https://turtlerockpreschool.com/event/kindergarten-promotion-4-2-2/
END:VEVENT
BEGIN:VEVENT
DTSTART;VALUE=DATE:20260603
DTEND;VALUE=DATE:20260604
DTSTAMP:20260421T015409
CREATED:20170127T020615Z
LAST-MODIFIED:20251003T210309Z
UID:10001182-1780444800-1780531199@turtlerockpreschool.com
SUMMARY:Pre-K End of Year Ceremony
DESCRIPTION:
URL:https://turtlerockpreschool.com/event/pre-k-end-of-year-ceremony-4-2-2/
LOCATION:Irvine Barclay Theatre\, 4242 Campus Dr\, Irvine\, CA\, 92612
END:VEVENT
BEGIN:VEVENT
DTSTART;VALUE=DATE:20260608
DTEND;VALUE=DATE:20260609
DTSTAMP:20260421T015409
CREATED:20170127T020704Z
LAST-MODIFIED:20251003T210301Z
UID:10001185-1780876800-1780963199@turtlerockpreschool.com
SUMMARY:Summer Programs Begin
DESCRIPTION:Pre-K Graduates through 3rd Grade
URL:https://turtlerockpreschool.com/event/summer-camp-begins-2-2-2/
END:VEVENT
END:VCALENDAR