BEGIN:VCALENDAR
VERSION:2.0
PRODID:-//Turtle Rock Preschool - ECPv6.15.17//NONSGML v1.0//EN
CALSCALE:GREGORIAN
METHOD:PUBLISH
X-WR-CALNAME:Turtle Rock Preschool
X-ORIGINAL-URL:https://turtlerockpreschool.com
X-WR-CALDESC:Events for Turtle Rock Preschool
REFRESH-INTERVAL;VALUE=DURATION:PT1H
X-Robots-Tag:noindex
X-PUBLISHED-TTL:PT1H
BEGIN:VTIMEZONE
TZID:America/Los_Angeles
BEGIN:DAYLIGHT
TZOFFSETFROM:-0800
TZOFFSETTO:-0700
TZNAME:PDT
DTSTART:20240310T100000
END:DAYLIGHT
BEGIN:STANDARD
TZOFFSETFROM:-0700
TZOFFSETTO:-0800
TZNAME:PST
DTSTART:20241103T090000
END:STANDARD
BEGIN:DAYLIGHT
TZOFFSETFROM:-0800
TZOFFSETTO:-0700
TZNAME:PDT
DTSTART:20250309T100000
END:DAYLIGHT
BEGIN:STANDARD
TZOFFSETFROM:-0700
TZOFFSETTO:-0800
TZNAME:PST
DTSTART:20251102T090000
END:STANDARD
BEGIN:DAYLIGHT
TZOFFSETFROM:-0800
TZOFFSETTO:-0700
TZNAME:PDT
DTSTART:20260308T100000
END:DAYLIGHT
BEGIN:STANDARD
TZOFFSETFROM:-0700
TZOFFSETTO:-0800
TZNAME:PST
DTSTART:20261101T090000
END:STANDARD
BEGIN:DAYLIGHT
TZOFFSETFROM:-0800
TZOFFSETTO:-0700
TZNAME:PDT
DTSTART:20270314T100000
END:DAYLIGHT
BEGIN:STANDARD
TZOFFSETFROM:-0700
TZOFFSETTO:-0800
TZNAME:PST
DTSTART:20271107T090000
END:STANDARD
END:VTIMEZONE
BEGIN:VEVENT
DTSTART;VALUE=DATE:20251222
DTEND;VALUE=DATE:20260103
DTSTAMP:20260421T015035
CREATED:20231120T225114Z
LAST-MODIFIED:20251003T210549Z
UID:10001201-1766361600-1767398399@turtlerockpreschool.com
SUMMARY:Winter Recess
DESCRIPTION:School Closed thru January 3
URL:https://turtlerockpreschool.com/event/winter-recess-3/
END:VEVENT
BEGIN:VEVENT
DTSTART;VALUE=DATE:20260105
DTEND;VALUE=DATE:20260106
DTSTAMP:20260421T015035
CREATED:20170127T015523Z
LAST-MODIFIED:20251003T210531Z
UID:10001148-1767571200-1767657599@turtlerockpreschool.com
SUMMARY:SchoolResumes
DESCRIPTION:
URL:https://turtlerockpreschool.com/event/schoolresumes-2-2/
END:VEVENT
BEGIN:VEVENT
DTSTART;VALUE=DATE:20260110
DTEND;VALUE=DATE:20260111
DTSTAMP:20260421T015035
CREATED:20231120T225854Z
LAST-MODIFIED:20251106T234251Z
UID:10001202-1768003200-1768089599@turtlerockpreschool.com
SUMMARY:Admissions Open House
DESCRIPTION:10:00 AM – 11:30 AM\nRSVP
URL:https://turtlerockpreschool.com/event/admissions-open-house/
END:VEVENT
BEGIN:VEVENT
DTSTART;TZID=America/Los_Angeles:20260113T163000
DTEND;TZID=America/Los_Angeles:20260113T173000
DTSTAMP:20260421T015035
CREATED:20171210T185325Z
LAST-MODIFIED:20251003T210522Z
UID:10001195-1768321800-1768325400@turtlerockpreschool.com
SUMMARY:"Connect to Kindergarten" Parent Session
DESCRIPTION:4:30 PM – 5:30 PM
URL:https://turtlerockpreschool.com/event/connect-to-kindergarten-parent-session-2-2/
END:VEVENT
BEGIN:VEVENT
DTSTART;VALUE=DATE:20260119
DTEND;VALUE=DATE:20260120
DTSTAMP:20260421T015035
CREATED:20240730T015313Z
LAST-MODIFIED:20251003T210433Z
UID:10001204-1768780800-1768867199@turtlerockpreschool.com
SUMMARY:Martin Luther King Jr. Day
DESCRIPTION:School Closed
URL:https://turtlerockpreschool.com/event/martin-luther-king-jr-day/
END:VEVENT
END:VCALENDAR